Workbook

Sheet NAIK TURUN BULAN
A1: LAPORAN JUMLAH PENUMPANGUMUM YANG NAIK TURUN DI TERMINAL TIPE C
A2: DINAS PERHUBUNGAN KABUPATEN KLATEN
A3: BULAN : JANUARI 2025
A5: NO | B5: NAMA SUB TERMINAL | C5: BANYAK RIT | D5: BANYAKNYA PENUMPANG | H5: KETERANGAN
D6: Datang | E6: Turun | F6: Naik | G6: Berangkat
A8: 1 | B8: PENGGUNG | C8: 220 | D8: 308 | E8: 212 | F8: 17 | G8: =D8-E8+F8 -> 113
A9: 2 | B9: CAWAS | C9: 178 | D9: 185 | E9: 30 | F9: 47 | G9: =D9-E9+F9 -> 202
A10: 3 | B10: DELANGGU | C10: 562 | D10: 72 | E10: 27 | F10: 19 | G10: =D10-E10+F10 -> 64
B11: JUMLAH | C11: =SUM(C7:C10) -> 960 | D11: =SUM(D7:D10) -> 565 | E11: =SUM(E7:E10) -> 269 | F11: =SUM(F7:F10) -> 83 | G11: =SUM(G7:G10) -> 379
A13: BULAN : PPEBRUARI 2025
A15: NO | B15: NAMA SUB TERMINAL | C15: BANYAK RIT | D15: BANYAKNYA PENUMPANG | H15: KETERANGAN
D16: Datang | E16: Turun | F16: Naik | G16: Berangkat
A18: 1 | B18: PENGGUNG | C18: 234 | D18: 325 | E18: 225 | F18: 174 | G18: =D18-E18+F18 -> 274
A19: 2 | B19: CAWAS | C19: 190 | D19: 216 | E19: 35 | F19: 60 | G19: =D19-E19+F19 -> 241
A20: 3 | B20: DELANGGU | C20: 524 | D20: 71 | E20: 31 | F20: 32 | G20: =D20-E20+F20 -> 72
B21: JUMLAH | C21: =SUM(C18:C20) -> 948 | D21: =SUM(D18:D20) -> 612 | E21: =SUM(E17:E20) -> 291 | F21: =SUM(F17:F20) -> 266 | G21: =SUM(G17:G20) -> 587
A23: BULAN MARET 2025
A25: NO | B25: NAMA SUB TERMINAL | C25: BANYAK RIT | D25: BANYAKNYA PENUMPANG | H25: KETERANGAN
D26: Datang | E26: Turun | F26: Naik | G26: Berangkat
A28: 1 | B28: PENGGUNG | C28: 241 | D28: 245 | E28: 190 | F28: 187 | G28: =D28-E28+F28 -> 242
A29: 2 | B29: CAWAS | C29: 210 | D29: 198 | E29: 33 | F29: 49 | G29: =D29-E29+F29 -> 214
A30: 3 | B30: DELANGGU | C30: 552 | D30: 56 | E30: 27 | F30: 32 | G30: =D30-E30+F30 -> 61
B31: JUMLAH | C31: =SUM(C28:C30) -> 1003 | D31: =SUM(D28:D30) -> 499 | E31: =SUM(E28:E30) -> 250 | F31: =SUM(F27:F30) -> 268 | G31: =SUM(G27:G30) -> 517
A34: BULAN : APRIL 2025
A36: NO | B36: NAMA SUB TERMINAL | C36: BANYAK RIT | D36: BANYAKNYA PENUMPANG | H36: KETERANGAN
D37: Datang | E37: Turun | F37: Naik | G37: Berangkat
A39: 1 | B39: PENGGUNG | C39: 267 | D39: 387 | E39: 267 | F39: 205 | G39: =D39-E39+F39 -> 325
A40: 2 | B40: CAWAS | C40: 198 | D40: 220 | E40: 38 | F40: 55 | G40: =D40-E40+F40 -> 237
A41: 3 | B41: DELANGGU | C41: 532 | D41: 50 | E41: 29 | F41: 37 | G41: =D41-E41+F41 -> 58
B42: JUMLAH | C42: =SUM(C39:C41) -> 997 | D42: =SUM(D39:D41) -> 657 | E42: =SUM(E39:E41) -> 334 | F42: =SUM(F39:F41) -> 297 | G42: =SUM(G39:G41) -> 620
A45: BULAN : MEI 2025
A47: NO | B47: NAMA SUB TERMINAL | C47: BANYAK RIT | D47: BANYAKNYA PENUMPANG | H47: KETERANGAN
D48: Datang | E48: Turun | F48: Naik | G48: Berangkat
A50: 1 | B50: PENGGUNG | C50: 261 | D50: 290 | E50: 218 | F50: 167 | G50: =D50-E50+F50 -> 239
A51: 2 | B51: CAWAS | C51: 210 | D51: 238 | E51: 39 | F51: 66 | G51: =D51-E51+F51 -> 265
A52: 3 | B52: DELANGGU | C52: 544 | D52: 61 | E52: 32 | F52: 28 | G52: =D52-E52+F52 -> 57
B53: JUMLAH | C53: =SUM(C50:C52) -> 1015 | D53: =SUM(D50:D52) -> 589 | E53: =SUM(E50:E52) -> 289 | F53: =SUM(F49:F52) -> 261 | G53: =SUM(G49:G52) -> 561
A56: BULAN : JUNI 2025
A58: NO | B58: NAMA SUB TERMINAL | C58: BANYAK RIT | D58: BANYAKNYA PENUMPANG | H58: KETERANGAN
D59: Datang | E59: Turun | F59: Naik | G59: Berangkat
A61: 1 | B61: PENGGUNG | C61: 222 | D61: 274 | E61: 174 | F61: 144 | G61: =D61-E61+F61 -> 244
A62: 2 | B62: CAWAS | C62: 182 | D62: 203 | E62: 32 | F62: 51 | G62: =D62-E62+F62 -> 222
A63: 3 | B63: DELANGGU | C63: 535 | D63: 60 | E63: 31 | F63: 24 | G63: =D63-E63+F63 -> 53
B64: JUMLAH | C64: =SUM(C61:C63) -> 939 | D64: =SUM(D60:D63) -> 537 | E64: =SUM(E61:E63) -> 237 | F64: =SUM(F61:F63) -> 219 | G64: =SUM(G60:G63) -> 519
A67: BULAN : JULI 2025
A69: NO | B69: NAMA SUB TERMINAL | C69: BANYAK RIT | D69: BANYAKNYA PENUMPANG | H69: KETERANGAN
D70: Datang | E70: Turun | F70: Naik | G70: Berangkat
A72: 1 | B72: PENGGUNG | C72: 243 | D72: 274 | E72: 192 | F72: 167 | G72: =D72-E72+F72 -> 249
A73: 2 | B73: CAWAS | C73: 214 | D73: 203 | E73: 35 | F73: 50 | G73: =D73-E73+F73 -> 218
A74: 3 | B74: DELANGGU | C74: 545 | D74: 62 | E74: 32 | F74: 24 | G74: =D74-E74+F74 -> 54
C75: =SUM(C72:C74) -> 1002 | D75: =SUM(D72:D74) -> 539 | E75: =SUM(E72:E74) -> 259 | F75: =SUM(F72:F74) -> 241 | G75: =SUM(G71:G74) -> 521
A78: BULAN : AGUSTUS 2025
A80: NO | B80: NAMA SUB TERMINAL | C80: BANYAK RIT | D80: BANYAKNYA PENUMPANG | H80: KETERANGAN
D81: Datang | E81: Turun | F81: Naik | G81: Berangkat
A83: 1 | B83: PENGGUNG | C83: 231 | D83: 257 | E83: 167 | F83: 186 | G83: =D83-E83+F83 -> 276
A84: 2 | B84: CAWAS | C84: 210 | D84: 238 | E84: 39 | F84: 66 | G84: =D84-E84+F84 -> 265
A85: 3 | B85: DELANGGU | C85: 522 | D85: 68 | E85: 37 | F85: 32 | G85: =D85-E85+F85 -> 63
C86: =SUM(C83:C85) -> 963 | D86: =SUM(D83:D85) -> 563 | E86: =SUM(E82:E85) -> 243 | F86: =SUM(F82:F85) -> 284 | G86: =SUM(G83:G85) -> 604
A89: BULAN SEPTEMBER 2025
A91: NO | B91: NAMA SUB TERMINAL | C91: BANYAK RIT | D91: BANYAKNYA PENUMPANG | H91: KETERANGAN
D92: Datang | E92: Turun | F92: Naik | G92: Berangkat
A94: 1 | B94: PENGGUNG | C94: 228 | D94: 239 | E94: 150 | F94: 134 | G94: =D94-E94+F94 -> 223
A95: 2 | B95: CAWAS | C95: 204 | D95: 230 | E95: 39 | F95: 64 | G95: =D95-E95+F95 -> 255
A96: 3 | B96: DELANGGU | C96: 475 | D96: 58 | E96: 35 | F96: 31 | G96: =D96-E96+F96 -> 54
C97: =SUM(C94:C96) -> 907 | D97: =SUM(D94:D96) -> 527 | E97: =SUM(E93:E96) -> 224 | F97: =SUM(F94:F96) -> 229 | G97: =SUM(G93:G96) -> 532
A100: BULAN : OKTOBER 2025
A102: NO | B102: NAMA SUB TERMINAL | C102: BANYAK RIT | D102: BANYAKNYA PENUMPANG | H102: KETERANGAN
D103: Datang | E103: Turun | F103: Naik | G103: Berangkat
A105: 1 | B105: PENGGUNG | C105: 240 | D105: 233 | E105: 178 | F105: 155 | G105: =D105-E105+F105 -> 210
A106: 2 | B106: CAWAS | C106: 207 | D106: 207 | E106: 33 | F106: 52 | G106: =D106-E106+F106 -> 226
A107: 3 | B107: DELANGGU | C107: 492 | D107: 63 | E107: 29 | F107: 28 | G107: =D107-E107+F107 -> 62
C108: =SUM(C104:C107) -> 939 | D108: =SUM(D105:D107) -> 503 | E108: =SUM(E105:E107) -> 240 | F108: =SUM(F104:F107) -> 235 | G108: =SUM(G104:G107) -> 498
A111: BULAN : NOVEMBE 2025
A113: NO | B113: NAMA SUB TERMINAL | C113: BANYAK RIT | D113: BANYAKNYA PENUMPANG | H113: KETERANGAN
D114: Datang | E114: Turun | F114: Naik | G114: Berangkat
A116: 1 | B116: PENGGUNG | C116: 216 | D116: 201 | E116: 149 | F116: 135 | G116: =D116-E116+F116 -> 187
A117: 2 | B117: CAWAS | C117: 210 | D117: 198 | E117: 33 | F117: 49 | G117: =D117-E117+F117 -> 214
A118: 3 | B118: DELANGGU | C118: 463 | D118: 55 | E118: 26 | F118: 32 | G118: =D118-E118+F118 -> 61
C119: =SUM(C116:C118) -> 889 | D119: =SUM(D116:D118) -> 454 | E119: =SUM(E116:E118) -> 208 | F119: =SUM(F115:F118) -> 216 | G119: =SUM(G115:G118) -> 462
A122: BULAN DESEMBER 2025
A124: NO | B124: NAMA SUB TERMINAL | C124: BANYAK RIT | D124: BANYAKNYA PENUMPANG | H124: KETERANGAN
D125: Datang | E125: Turun | F125: Naik | G125: Berangkat
A127: 1 | B127: PENGGUNG | C127: 243 | D127: 232 | E127: 182 | F127: 180 | G127: =D127-E127+F127 -> 230
A128: 2 | B128: CAWAS | C128: 209 | D128: 235 | E128: 41 | F128: 65 | G128: =D128-E128+F128 -> 259
A129: 3 | B129: DELANGGU | C129: 470 | D129: 75 | E129: 32 | F129: 39 | G129: =D129-E129+F129 -> 82
C130: =SUM(C127:C129) -> 922 | D130: =SUM(D127:D129) -> 542 | E130: =SUM(E127:E129) -> 255 | F130: =SUM(F127:F129) -> 284 | G130: =SUM(G126:G129) -> 571

Sheet NAIK TURUN1 TH
A2: LAPORAN JUMLAH PENUMPANGUMUM YANG NAIK TURUN DI TERMINAL TIPE C
A3: DINAS PERHUBUNGAN KABUPATEN KLATEN
A4: TAHUN ; 2025
A6: N0 | B6: BULAN | C6: RIT | D6: BANYAKNYA PENUMPANG | H6: JML PENUMPANG
D7: Datang | E7: turun | F7: naik | G7: berangkat
A8: 1 | B8: Januari | C8: ='NAIK TURUN BULAN'!C11 -> 960 | D8: ='NAIK TURUN BULAN'!D11 -> 565 | E8: ='NAIK TURUN BULAN'!E11 -> 269 | F8: ='NAIK TURUN BULAN'!F11 -> 83 | G8: =D8-E8+F8 -> 379 | H8: =D8+F8 -> 648
A9: 2 | B9: Pebruari | C9: ='NAIK TURUN BULAN'!C21 -> 948 | D9: ='NAIK TURUN BULAN'!D21 -> 612 | E9: ='NAIK TURUN BULAN'!E21 -> 291 | F9: ='NAIK TURUN BULAN'!F21 -> 266 | G9: =D9-E9+F9 -> 587 | H9: =D9+F9 -> 878
A10: 3 | B10: Maret | C10: ='NAIK TURUN BULAN'!C31 -> 1003 | D10: ='NAIK TURUN BULAN'!D31 -> 499 | E10: ='NAIK TURUN BULAN'!E31 -> 250 | F10: ='NAIK TURUN BULAN'!F31 -> 268 | G10: =D10-E10+F10 -> 517 | H10: =D10+F10 -> 767
A11: 4 | B11: April | C11: ='NAIK TURUN BULAN'!C42 -> 997 | D11: ='NAIK TURUN BULAN'!D42 -> 657 | E11: ='NAIK TURUN BULAN'!E42 -> 334 | F11: ='NAIK TURUN BULAN'!F42 -> 297 | G11: =D11-E11+F11 -> 620 | H11: =D11+F11 -> 954
A12: 5 | B12: Mei | C12: ='NAIK TURUN BULAN'!C53 -> 1015 | D12: ='NAIK TURUN BULAN'!D53 -> 589 | E12: ='NAIK TURUN BULAN'!E53 -> 289 | F12: ='NAIK TURUN BULAN'!F53 -> 261 | G12: =D12-E12+F12 -> 561 | H12: =D12+F12 -> 850
A13: 6 | B13: Juni | C13: ='NAIK TURUN BULAN'!C64 -> 939 | D13: ='NAIK TURUN BULAN'!D64 -> 537 | E13: ='NAIK TURUN BULAN'!E64 -> 237 | F13: ='NAIK TURUN BULAN'!F64 -> 219 | G13: =D13-E13+F13 -> 519 | H13: =D13+F13 -> 756
A14: 7 | B14: Juli | C14: ='NAIK TURUN BULAN'!C75 -> 1002 | D14: ='NAIK TURUN BULAN'!D75 -> 539 | E14: ='NAIK TURUN BULAN'!E75 -> 259 | F14: ='NAIK TURUN BULAN'!F75 -> 241 | G14: =D14-E14+F14 -> 521 | H14: =D14+F14 -> 780
A15: 8 | B15: Agustus | C15: ='NAIK TURUN BULAN'!C86 -> 963 | D15: ='NAIK TURUN BULAN'!D86 -> 563 | E15: ='NAIK TURUN BULAN'!E86 -> 243 | F15: ='NAIK TURUN BULAN'!F86 -> 284 | G15: =D15-E15+F15 -> 604 | H15: =D15+F15 -> 847
A16: 9 | B16: September | C16: ='NAIK TURUN BULAN'!C97 -> 907 | D16: ='NAIK TURUN BULAN'!D97 -> 527 | E16: ='NAIK TURUN BULAN'!E97 -> 224 | F16: ='NAIK TURUN BULAN'!F97 -> 229 | G16: =D16-E16+F16 -> 532 | H16: =D16+F16 -> 756
A17: 10 | B17: Oktober | C17: ='NAIK TURUN BULAN'!C108 -> 939 | D17: ='NAIK TURUN BULAN'!D108 -> 503 | E17: ='NAIK TURUN BULAN'!E108 -> 240 | F17: ='NAIK TURUN BULAN'!F108 -> 235 | G17: =D17-E17+F17 -> 498 | H17: =D17+F17 -> 738
A18: 11 | B18: November | C18: ='NAIK TURUN BULAN'!C119 -> 889 | D18: ='NAIK TURUN BULAN'!D119 -> 454 | E18: ='NAIK TURUN BULAN'!E119 -> 208 | F18: ='NAIK TURUN BULAN'!F119 -> 216 | G18: =D18-E18+F18 -> 462 | H18: =D18+F18 -> 670
A19: 12 | B19: Desember | C19: ='NAIK TURUN BULAN'!C130 -> 922 | D19: ='NAIK TURUN BULAN'!D130 -> 542 | E19: ='NAIK TURUN BULAN'!E130 -> 255 | F19: ='NAIK TURUN BULAN'!F130 -> 284 | G19: =D19-E19+F19 -> 571 | H19: =D19+F19 -> 826
B20: JUMLAH | C20: =SUM(C8:C19) -> 11484 | D20: =SUM(D8:D19) -> 6587 | E20: =SUM(E8:E19) -> 3099 | F20: =SUM(F8:F19) -> 2883 | G20: =SUM(G8:G19) -> 6371 | H20: =SUM(H8:H19) -> 9470

Sheet KENDARAAN
A1: LALU LINTAS KENDARAAN PENUMPANGUMUM BERDASARKAN JENISNYA
A2: TAHUN204 BULAN JANUARI 2025
A4: N0 | B4: SUB TERMINAL | C4: BUS PEDESAAN | D4: COLT/NON BUS | E4: CEPAT | F4: INAP
A6: 1 | B6: Penggung | C6: 71 | D6: 2
A7: 2 | B7: Cawas | C7: 32 | D7: 25
A8: 3 | B8: Delanggu | D8: 544
B9: JUMLAH | C9: =SUM(C6:C8) -> 103 | D9: =SUM(D5:D8) -> 571 | E9: =SUM(E5:E8) -> 0
A11: BULAN PEBRUARI
A12: N0 | B12: SUB TERMINAL | C12: BUS PEDESAAN | D12: COLT/NON BUS | E12: CEPAT | F12: INAP
A14: 1 | B14: Penggung | C14: 78
A15: 2 | B15: Cawas | C15: 36 | D15: 23
A16: 3 | B16: Delanggu | D16: 256
B17: JUMLAH | C17: =SUM(C13:C16) -> 114 | D17: =SUM(D14:D16) -> 279 | E17: =SUM(E13:E16) -> 0
A19: BULAN MARET
A20: N0 | B20: SUB TERMINAL | C20: BUS PEDESAAN | D20: COLT/NON BUS | E20: CEPAT | F20: INAP
A22: 1 | B22: Penggung | C22: 81 | D22: 2
A23: 2 | B23: Cawas | C23: 39 | D23: 27
A24: 3 | B24: Delanggu | D24: 272
B25: JUMLAH | C25: =SUM(C21:C24) -> 120 | D25: =SUM(D21:D24) -> 301 | E25: =SUM(E21:E24) -> 0
A27: BULAN APRIL
A28: N0 | B28: SUB TERMINAL | C28: BUS PEDESAAN | D28: COLT/NON BUS | E28: CEPAT | F28: INAP
A30: 1 | B30: Penggung | C30: 89
A31: 2 | B31: Cawas | C31: 35 | D31: 30
A32: 3 | B32: Delanggu | D32: 348
B33: JUMLAH | C33: =SUM(C29:C32) -> 124 | D33: =SUM(D29:D32) -> 378 | E33: =SUM(E29:E32) -> 0 | F33: =SUM(F29:F32) -> 0
A35: BULAN MEI
A36: N0 | B36: SUB TERMINAL | C36: BUS PEDESAAN | D36: COLT/NON BUS | E36: CEPAT | F36: INAP
A38: 1 | B38: Penggung | C38: 87
A39: 2 | B39: Cawas | C39: 40 | D39: 25
A40: 3 | B40: Delanggu | D40: 259
B41: JUMLAH | C41: =SUM(C37:C40) -> 127 | D41: =SUM(D37:D40) -> 284 | E41: =SUM(E37:E40) -> 0 | F41: =SUM(F37:F40) -> 0
A43: JUNI
A44: N0 | B44: SUB TERMINAL | C44: BUS PEDESAAN | D44: COLT/NON BUS | E44: CEPAT | F44: INAP
A46: 1 | B46: Penggung | C46: 74
A47: 2 | B47: Cawas | C47: 32 | D47: 27
A48: 3 | B48: Delanggu | D48: 264
B49: JUMLAH | C49: =SUM(C45:C48) -> 106 | D49: =SUM(D45:D48) -> 291 | E49: =SUM(E45:E48) -> 0 | F49: =SUM(F45:F48) -> 0
A51: JULI
A52: N0 | B52: SUB TERMINAL | C52: BUS PEDESAAN | D52: COLT/NON BUS | E52: CEPAT | F52: INAP
A54: 1 | B54: Penggung | C54: 82
A55: 2 | B55: Cawas | C55: 40 | D55: 27
A56: 3 | B56: Delanggu | C56: 0 | D56: 269
B57: JUMLAH | C57: =SUM(C53:C56) -> 122 | D57: =SUM(D53:D56) -> 296 | E57: =SUM(E53:E56) -> 0 | F57: =SUM(F53:F56) -> 0
A59: AGUSTUS
A60: N0 | B60: SUB TERMINAL | C60: BUS PEDESAAN | D60: COLT/NON BUS | E60: CEPAT | F60: INAP
A62: 1 | B62: Penggung | C62: 77
A63: 2 | B63: Cawas | C63: 40 | D63: 25
A64: 3 | B64: Delanggu | C64: 0 | D64: 249
B65: JUMLAH | C65: =SUM(C61:C64) -> 117 | D65: =SUM(D61:D64) -> 274 | E65: =SUM(E61:E64) -> 0 | F65: =SUM(F61:F64) -> 0
A67: SEPTEMBER
A68: N0 | B68: SUB TERMINAL | C68: BUS PEDESAAN | D68: COLT/NON BUS | E68: CEPAT | F68: INAP
A70: 1 | B70: Penggung | C70: 76
A71: 2 | B71: Cawas | C71: 39 | D71: 24
A72: 3 | B72: Delanggu | D72: 232
B73: JUMLAH | C73: =SUM(C69:C72) -> 115 | D73: =SUM(D69:D72) -> 256 | E73: =SUM(E69:E72) -> 0 | F73: =SUM(F69:F72) -> 0
A75: OKTOBER
A76: N0 | B76: SUB TERMINAL | C76: BUS PEDESAAN | D76: COLT/NON BUS | E76: CEPAT | F76: INAP
A78: 1 | B78: Penggung | C78: 77
A79: 2 | B79: Cawas | C79: 40 | D79: 28
A80: 3 | B80: Delanggu | C80: 0 | D80: 241
B81: JUMLAH | C81: =C78+C79 -> 117 | D81: =SUM(D77:D80) -> 269 | E81: =SUM(E77:E80) -> 0 | F81: =SUM(F77:F80) -> 0
A83: NOVEMBER
A84: N0 | B84: SUB TERMINAL | C84: BUS PEDESAAN | D84: COLT/NON BUS | E84: CEPAT | F84: INAP
A86: 1 | B86: Penggung | C86: 69
A87: 2 | B87: Cawas | C87: 39 | D87: 27
A88: 3 | B88: Delanggu | D88: 229
B89: JUMLAH | C89: =SUM(C85:C88) -> 108 | D89: =SUM(D85:D88) -> 256 | E89: =SUM(E85:E88) -> 0 | F89: =SUM(F85:F88) -> 0
A91: DESEMBER
A92: N0 | B92: SUB TERMINAL | C92: BUS PEDESAAN | D92: COLT/NON BUS | E92: CEPAT | F92: INAP
A94: 1 | B94: Penggung | C94: 230 | D94: 81
A95: 2 | B95: Cawas | C95: 40 | D95: 24
A96: 3 | B96: Delanggu | D96: 232
B97: JUMLAH | C97: =SUM(C93:C96) -> 270 | D97: =SUM(D93:D96) -> 337 | E97: =SUM(E93:E96) -> 0 | F97: =SUM(F93:F96) -> 0

Sheet KENDAARAN 1 TH
A2: LALU LINTASKENDAARAN PENUMPANG BERDASARKAN JENIS
A3: DIKABUPATEN KLATEN TH 2025
A5: NO | B5: BULAN | C5: BUS BUMEL/PEDESAAN | E5: COLT/NON BUS
C6: keluar | D6: masuk | E6: keluar | F6: masuk
A7: 1 | B7: Januari | C7: =KENDARAAN!C9 -> 103 | D7: =C7 -> 103 | E7: =KENDARAAN!D9 -> 571 | F7: =E7 -> 571
A9: 2 | B9: Pebruari | C9: =KENDARAAN!C17 -> 114 | D9: =C9 -> 114 | E9: =KENDARAAN!D17 -> 279 | F9: =E9 -> 279
A11: 3 | B11: Maret | C11: =KENDARAAN!C25 -> 120 | D11: =C11 -> 120 | E11: =KENDARAAN!D25 -> 301 | F11: =E11 -> 301
A13: 4 | B13: April | C13: =KENDARAAN!C33 -> 124 | D13: =C13 -> 124 | E13: =KENDARAAN!D33 -> 378 | F13: =E13 -> 378
A15: 5 | B15: Mei | C15: =KENDARAAN!C41 -> 127 | D15: =C15 -> 127 | E15: =KENDARAAN!D41 -> 284 | F15: =E15 -> 284
A17: 6 | B17: Juni | C17: =KENDARAAN!C49 -> 106 | D17: =C17 -> 106 | E17: =KENDARAAN!D49 -> 291 | F17: =E17 -> 291
A19: 7 | B19: Juli | C19: =KENDARAAN!C57 -> 122 | D19: =C19 -> 122 | E19: =KENDARAAN!D57 -> 296 | F19: =E19 -> 296
A21: 8 | B21: Agustus | C21: =KENDARAAN!C65 -> 117 | D21: =C21 -> 117 | E21: =KENDARAAN!D65 -> 274 | F21: =E21 -> 274
A23: 9 | B23: September | C23: =KENDARAAN!C73 -> 115 | D23: =C23 -> 115 | E23: =KENDARAAN!D73 -> 256 | F23: =E23 -> 256
A25: 10 | B25: Oktober | C25: =KENDARAAN!C81 -> 117 | D25: =C25 -> 117 | E25: =KENDARAAN!D81 -> 269 | F25: =E25 -> 269
A27: 11 | B27: November | C27: =KENDARAAN!C89 -> 108 | D27: =C27 -> 108 | E27: =KENDARAAN!D89 -> 256 | F27: =E27 -> 256
A29: 12 | B29: Desember | C29: =KENDARAAN!C97 -> 270 | D29: =C29 -> 270 | E29: =KENDARAAN!D97 -> 337 | F29: =E29 -> 337
B31: JUMLAH | C31: =SUM(C7:C29) -> 1543 | D31: =SUM(D7:D30) -> 1543 | E31: =SUM(E7:E30) -> 3792 | F31: =SUM(F7:F30) -> 3792
